BEGIN:VCALENDAR
VERSION:2.0
X-WR-CALNAME:www.indybay.org
PRODID:-//indybay/ical// v1.0//EN
BEGIN:VEVENT
UID:Indybay-18451935
SEQUENCE:18470527
CREATED:20071005T192100Z
DESCRIPTION:Listening for a Change- Every Wednesday 11:00 a.m. - 1:00 p.m., Lytton 
 Plaza, Palo Alto (University x Emerson) \n\nSince October 2001, every 
 Wednesday, except when it is raining; I have set up tables, banners, 
 chairs, food, educational material, and created a space for public dialogue 
 on key issues. We ask the public three questions and write down their 
 responses- \nWhat do you think/feel about the events of September 11th and 
 the U.S. government's response? \n\nHow could we defuse terrorism?" \n\nHow 
 could we create a safer/better world for our children and all children? 
 \n\n\nSponsored by Women's International League for Peace and Freedom and 
 Northern California 9-11 Truth Alliance All welcome. For more information 
 call Carol Brouillet 650-857-0927.\n\n\n 
 https://www.indybay.org/newsitems/2007/10/05/18451935.php
SUMMARY:Listening for a Change
LOCATION:Lytton Plaza\nUniversity & Emerson\nDowntown Palo Alto
URL:https://www.indybay.org/newsitems/2007/10/05/18451935.php
DTSTART:20071010T180000Z
DTEND:20071010T180000Z
END:VEVENT
END:VCALENDAR
