BEGIN:VCALENDAR
VERSION:2.0
X-WR-CALNAME:www.indybay.org
PRODID:-//indybay/ical// v1.0//EN
BEGIN:VEVENT
UID:Indybay-18451718
SEQUENCE:18470275
CREATED:20071004T155000Z
DESCRIPTION:Discussion of Chapters 2 and 3 in A People's History of the United States 
 by Howard Zinn. \n\n\n\n\n\n\n\n\n \n 
 https://www.indybay.org/newsitems/2007/10/04/18451718.php
SUMMARY:People's History of the United States discussion
LOCATION:Room 11, Sierra 2 Center, 2791 24th St.
URL:https://www.indybay.org/newsitems/2007/10/04/18451718.php
DTSTART:20071010T020000Z
DTEND:20071010T040000Z
END:VEVENT
END:VCALENDAR
