BEGIN:VCALENDAR
VERSION:2.0
X-WR-CALNAME:www.indybay.org
PRODID:-//indybay/ical// v1.0//EN
BEGIN:VEVENT
UID:Indybay-18451631
SEQUENCE:18470153
CREATED:20071004T053900Z
DESCRIPTION:The 2007 Taiwan Film Festival, to be held at Stanford University (10/7), UC 
 Davis (10/10-13), Salt Lake City Film Center (10/15-17), University of 
 Oregon (10/18-20), and the University of Washington (10/19-21), will 
 showcase thirteen feature and documentary films that reflect the quality, 
 range, and vitality of contemporary Taiwanese film-making. \n 
 https://www.indybay.org/newsitems/2007/10/03/18451631.php
SUMMARY:2007 Taiwan Film Festival
LOCATION:Cubberley Auditorium, 485 Lausen Mall, Stanford University
URL:https://www.indybay.org/newsitems/2007/10/03/18451631.php
DTSTART:20071007T210000Z
DTEND:20071007T210000Z
END:VEVENT
END:VCALENDAR
