BEGIN:VCALENDAR
VERSION:2.0
X-WR-CALNAME:www.indybay.org
PRODID:-//indybay/ical// v1.0//EN
BEGIN:VEVENT
UID:Indybay-18451544
SEQUENCE:18470064
CREATED:20071003T202900Z
DESCRIPTION:Vic and Barby Ulmer of our developing world (odw) share experiences in 
 Venezuela, Bolivia and Ecuador: Latin America, Challenges, Change and Hope! 
 \n\n https://www.indybay.org/newsitems/2007/10/03/18451544.php
SUMMARY:San Jose: Latin America: Challenges and Hope
LOCATION:San Jose Peace Center, 48 S. 7th St., San Jose\n
URL:https://www.indybay.org/newsitems/2007/10/03/18451544.php
DTSTART:20071013T020000Z
DTEND:20071013T040000Z
END:VEVENT
END:VCALENDAR
