BEGIN:VCALENDAR
VERSION:2.0
X-WR-CALNAME:www.indybay.org
PRODID:-//indybay/ical// v1.0//EN
BEGIN:VEVENT
UID:Indybay-18450811
SEQUENCE:18469281
CREATED:20071001T155900Z
DESCRIPTION: On Wednesday 10/3 at 5:00 p.m. Globalize This! will be putting on a street 
 theater action in support of Costa Rican civil society organizations 
 opposing CAFTA in the swiftly approaching Oct. 7 referendum. The action 
 will take place at the intersection of Powell and Market Street in downtown 
 San Francisco in front of the building that houses several Central American 
 consulates.\n		 \n  	We are calling upon the U.S. Congress and the 
 government of Costa Rica to respect the will of the Costa Rican people in 
 this vote.  The people deserve a voice at the table, especially with 
 respect to free trade agreements like CAFTA that will lock into place 
 thousands of profit-driven legal changes threatening workers, sensitive 
 environmental habitats, and social services.\n\nPlease invite your friends 
 and family, come with your faces painted--we will be mimicking the style 
 used by Costa Rican activists in a recent anti-CAFTA protest in San José 
 shown in the images above.  A strong turn-out will help us to send a clear 
 message.\n\nBring stalks of corn and sunflowers to help make visual the 
 threat to our most basic systems!\n 
 https://www.indybay.org/newsitems/2007/10/01/18450811.php
SUMMARY:Street Theater at Latin American Consulates for the Costa Rican CAFTA referendum
LOCATION:The intersection of Powell and Market Street in downtown San Francisco in 
 front of the building that houses several Central American consulates.
URL:https://www.indybay.org/newsitems/2007/10/01/18450811.php
DTSTART:20071004T000000Z
DTEND:20071004T020000Z
END:VEVENT
END:VCALENDAR
