BEGIN:VCALENDAR
VERSION:2.0
X-WR-CALNAME:www.indybay.org
PRODID:-//indybay/ical// v1.0//EN
BEGIN:VEVENT
UID:Indybay-18450809
SEQUENCE:18469282
CREATED:20071001T155500Z
DESCRIPTION:Matewan- John Sayles directs this classic film about labor and race in a 
 West Virginia mining town.  \n\nPart of a month of films about mining 
 struggles.\n\nWe encourage everyone to come, snack out, discuss the film 
 and help us think of movies to show in the future. \n 
 https://www.indybay.org/newsitems/2007/10/01/18450809.php
SUMMARY:Rad Movie Night- Matewan
LOCATION:@ The Long Haul 3124 Shattuck Ave Berkeley near Ashby Bart
URL:https://www.indybay.org/newsitems/2007/10/01/18450809.php
DTSTART:20071011T033000Z
DTEND:20071011T053000Z
END:VEVENT
END:VCALENDAR
