BEGIN:VCALENDAR
VERSION:2.0
X-WR-CALNAME:www.indybay.org
PRODID:-//indybay/ical// v1.0//EN
BEGIN:VEVENT
UID:Indybay-18450087
SEQUENCE:18468332
CREATED:20070927T152600Z
DESCRIPTION:Meet the candidates: California State Senator Carole Migden and challengers 
 Mark Leno and Joe Alioto Veronese. There will be time for the audience to 
 question the candidates.\n\nThe event will be moderated by David Mathison, 
 Publisher of BE THE MEDIA.\n 
 https://www.indybay.org/newsitems/2007/09/27/18450087.php
SUMMARY:CA Democratic State Senate Candidates' Forum
LOCATION:Olney Hall, College of Marin (Kentfield, CA)
URL:https://www.indybay.org/newsitems/2007/09/27/18450087.php
DTSTART:20070928T020000Z
DTEND:20070928T043000Z
END:VEVENT
END:VCALENDAR
