BEGIN:VCALENDAR
VERSION:2.0
X-WR-CALNAME:www.indybay.org
PRODID:-//indybay/ical// v1.0//EN
BEGIN:VEVENT
UID:Indybay-18449932
SEQUENCE:18468266
CREATED:20070927T040600Z
DESCRIPTION:Folk Dance Performances, Arts and Crafts, Books, CDs, Videos. Delicious and 
 authentic Polish food. Beer imported from Poland. \nEvent organized by 
 Polish American Congress, Northern California Division 1-650-306-2382 
 \nFREE ADMISSION\n 
 https://www.indybay.org/newsitems/2007/09/26/18449932.php
SUMMARY:Polish Festival
LOCATION:County Fair Building, Lincoln Way at 9th Ave. , San Francisco, CA 
URL:https://www.indybay.org/newsitems/2007/09/26/18449932.php
DTSTART:20071007T170000Z
DTEND:20071008T000000Z
END:VEVENT
END:VCALENDAR
