BEGIN:VCALENDAR
VERSION:2.0
X-WR-CALNAME:www.indybay.org
PRODID:-//indybay/ical// v1.0//EN
BEGIN:VEVENT
UID:Indybay-18449622
SEQUENCE:18467781
CREATED:20070925T143100Z
DESCRIPTION:\nBoard to consider bids for driveway project\n\nThe Tamalpais Community 
 Services District board will have a special meeting at 8:30 a.m. Wednesday 
 to consider bids for the community center driveway project.\n\nThe board 
 will consider a state application for curbside recycling.\n\nThe meeting 
 will be at the district office at 305 Bell Lane.\n\nadd put up by\n 
 https://www.indybay.org/newsitems/2007/09/25/18449622.php
SUMMARY:Tamalpais Community Services Dist. bids for driveway project
LOCATION:\n\ntime of meetings end a guess
URL:https://www.indybay.org/newsitems/2007/09/25/18449622.php
DTSTART:20070926T153000Z
DTEND:20070926T173000Z
END:VEVENT
END:VCALENDAR
