BEGIN:VCALENDAR
VERSION:2.0
X-WR-CALNAME:www.indybay.org
PRODID:-//indybay/ical// v1.0//EN
BEGIN:VEVENT
UID:Indybay-18448818
SEQUENCE:18466765
CREATED:20070921T042000Z
DESCRIPTION: Think Global - Act Local\nGo Green at Work, at Home and at the Beach! 
 Learn how to use household graywater, certify your business “green” and 
 cleanup the shoreline.\nFeatured Speakers:\nBabak Jacinto Tondre of 
 EcoHouse & Graywater Systems, Ecology Center\nPamela Evans of Green 
 Business Program, Alameda County\nPatty Donald of Marina Experience 
 Programs, City of Berkeley\n\n\nPeople of all political stripes are 
 encouraged to attend. These events will be about green values in 
 general.\nsee www.berkeleygreens.org for more details\n 
 https://www.indybay.org/newsitems/2007/09/20/18448818.php
SUMMARY:Berkeley Green mondays
LOCATION:Anna's Jazz Island 2120 Allston Way , downtown Berkeley
URL:https://www.indybay.org/newsitems/2007/09/20/18448818.php
DTSTART:20071009T023000Z
DTEND:20071009T043000Z
END:VEVENT
END:VCALENDAR
