BEGIN:VCALENDAR
VERSION:2.0
X-WR-CALNAME:www.indybay.org
PRODID:-//indybay/ical// v1.0//EN
BEGIN:VEVENT
UID:Indybay-18448134
SEQUENCE:18465909
CREATED:20070918T070700Z
DESCRIPTION:Ross Valley school board plans session of goals\nStaff Report\nArticle 
 Launched: 09/15/2007 10:04:54 PM PDT\n\nRoss Valley School District 
 trustees will hold a noon session on board goals Tuesday at 110 Shaw Drive 
 in San Anselmo.\n\nFor more information, call 454-2162.\n\n\nadd out up by 
 \n\nadd put up by \n 
 https://www.indybay.org/newsitems/2007/09/18/18448134.php
SUMMARY:Ross Valley school board plans meet on goals{San Anselmo}
LOCATION:meetings end a guess
URL:https://www.indybay.org/newsitems/2007/09/18/18448134.php
DTSTART:20070917T190000Z
DTEND:20070917T210000Z
END:VEVENT
END:VCALENDAR
