BEGIN:VCALENDAR
VERSION:2.0
X-WR-CALNAME:www.indybay.org
PRODID:-//indybay/ical// v1.0//EN
BEGIN:VEVENT
UID:Indybay-18448128
SEQUENCE:18465903
CREATED:20070918T063900Z
DESCRIPTION:College board to review science building design\n\n1-5pm special study 
 session\n\nCollege of Marin trustees meet at 5 p.m. Tuesday to discuss the 
 design of a new science building. They meet in the Deedy staff lounge on 
 the Kentfield campus.\n\nadd put up by\n 
 https://www.indybay.org/newsitems/2007/09/17/18448128.php
SUMMARY:College of Marin Board to review science building design/Future Carbon nuetral standards
LOCATION:\n\nmeetings end a guess
URL:https://www.indybay.org/newsitems/2007/09/17/18448128.php
DTSTART:20070918T200000Z
DTEND:20070919T050000Z
END:VEVENT
END:VCALENDAR
