BEGIN:VCALENDAR
VERSION:2.0
X-WR-CALNAME:www.indybay.org
PRODID:-//indybay/ical// v1.0//EN
BEGIN:VEVENT
UID:Indybay-18448075
SEQUENCE:18465844
CREATED:20070917T235900Z
DESCRIPTION:\nMonday, September 17 in San Jose\n6:30-8:30 p.m.\n\nDr. Martin Luther 
 King, Jr. Library\nRooms 225A and 225B, 2nd Floor\n150 E. San Fernando St 
 .\nSan Jose , CA 95112\nPublic safety depends on public trust.  That ' s 
 why communities want more transparency from their police.\n\nIn Sacramento 
 , Senate Bill 1019 would restore public access to police misconduct records 
 in many cities.  \nHere in San Jose , proposed reforms would make local 
 police reports public.\n\nLearn more from our panel of speakers.\nAsk 
 questions at the microphone.\nRaise your own concerns.\nBe there.\n\n 
 \n\n\n \nEvent Co-Sponsored By: \n \nEl Observador\n\nNAACP San 
 Jose/Silicon Valley\nLa Raza Roundtable\n\nServices, Immigrant Rights, and 
 Education Network (SIREN)\nLeague of Women Voters of San Jose/Santa 
 Clara\nBAYMEC \nBilly DeFrank LGBT Community Center\nMcManis Faulkner & 
 Morgan\nBay Area Iranian-American Voter Association\nCouncil on American 
 Islamic Relations – San Francisco Bay Area\nAmnesty International\nMental 
 Health Advocacy Project, Program of Law Foundation of Silicon 
 Valley\nPublic Interest Law Firm, Program of Law Foundation of Silicon 
 Valley\nSilicon Valley De-Bug\nSan Jose Peace Center\nSouth Bay 
 Mobilization \n\nCalifornians For Justice\n\nAsian Pacific Islander Justice 
 Coalition of the Silicon Valley :\nAsian American Recovery Services 
 (AARS)\nAsian American Women’s Alliance (AAWA)\n Asian Americans for 
 Community Involvement (AACI)\nAsian Law Alliance ( ALA )\nAsian Pacific 
 American Leadership Institute (APALI)\nAsian Pacific Bar Association of 
 Silicon Valley (APBA)\nCambodian American Resource Agency 
 (CARA)\nContemporary Asian Theatre Scene (CATS)\nFilipino American National 
 Historical Society— Santa Clara Valley Chapter (FANHS)\nFilipino Youth 
 Coalition (FYC)\nInternational Children Assistance Network 
 (ICAN)\nJapantown Community Congress of San Jose\nKorean American Community 
 Services (KACS)\nMALAYA\nOCA— Silicon Valley Chapter (Organization of 
 Chinese Americans)\nSouth Bay First Thursdays\nYu-Ai Kai\n \n\n \n\n \n\n 
 \n\n https://www.indybay.org/newsitems/2007/09/17/18448075.php
SUMMARY:Police Transparency: Public Safety, Public Trust
LOCATION:Dr. Martin Luther King, Jr. Library\nRooms 225A and 225B, 2nd Floor\n150 E. 
 San Fernando St .\nSan Jose , CA 95112
URL:https://www.indybay.org/newsitems/2007/09/17/18448075.php
DTSTART:20070918T013000Z
DTEND:20070918T033000Z
END:VEVENT
END:VCALENDAR
