BEGIN:VCALENDAR
VERSION:2.0
X-WR-CALNAME:www.indybay.org
PRODID:-//indybay/ical// v1.0//EN
BEGIN:VEVENT
UID:Indybay-18447932
SEQUENCE:18465659
CREATED:20070917T054600Z
DESCRIPTION:	The San Anselmo Planning Commission will consider plans for a two-story, 
 3,739-square-foot home on a Scenic Avenue hillside at 7 p.m.\n\nadd put up 
 by\n https://www.indybay.org/newsitems/2007/09/16/18447932.php
SUMMARY:San Anselmo Planning Commission{considers plans for a two-story, 3,739-square-foot home}
LOCATION:\n Monday at Town Hall at 525 San Anselmo Ave.\n\n end time of meeting a 
 guess
URL:https://www.indybay.org/newsitems/2007/09/16/18447932.php
DTSTART:20070918T020000Z
DTEND:20070918T040000Z
END:VEVENT
END:VCALENDAR
