BEGIN:VCALENDAR
VERSION:2.0
X-WR-CALNAME:www.indybay.org
PRODID:-//indybay/ical// v1.0//EN
BEGIN:VEVENT
UID:Indybay-18447326
SEQUENCE:18464972
CREATED:20070913T142200Z
DESCRIPTION:Human rights activist Lovinsky Pierre-Antoine is a grassroots leader, 
 member of the Lavalas party, and the head of Fondayson Trant Septanm, a 
 Haitian organization that advocates for victims of the 1991 and 2004 coup 
 d'etats against the democratically-elected governments of Jean-Bertrand 
 Aristide.\n\nIt has been a month since Lovinsky was last seen on the 
 evening of Sunday, August 12, 2007 after meeting with a US human rights 
 delegation visiting Haiti. He has disappeared and is presumed kidnapped. A 
 delegation of activists with Haiti Action Committee had the privilege of 
 meeting with Lovinsky in his home at the end of July. We are deeply 
 concerned over his disappearance.\n\n* Join Haiti Action Committee and 
 African drums at the 9/18 rally for Brother Lovinsky in San Francisco\n* 
 Call or fax on his behalf [See phone numbers below]  
 \n\nwww.haitiaction.net \n\nPlease continue to contact the following 
 offices of the Haitian government, the US embassy and the UN occupying 
 powers. Express your concern that all efforts are being made to facilitate 
 the safe return of Lovinsky Pierre-Antoine.\n\nHaitian Ministry of 
 Justice\nTel: 011-509-245-0474\n\nUN Stabilization Mission in Haiti 
 (MINUSTAH)\nTel: 011-509-244-0650/0660\nFAX: 011-509-244-9366/67\nOr, Fax 
 Office of General Secretary (New York) - 212-963-4879\n\nUnited States 
 Embassy\nPort-au-Prince, Haiti\nTel: 011-509-223-4711, or 222-0200 or 
 0354\nFAX: 011-509-223-1641 \n\n 
 https://www.indybay.org/newsitems/2007/09/13/18447326.php
SUMMARY:Rally for the Safe Return of Lovinsky Pierre-Antoine
LOCATION:Montgomery BART \n- Market & Montgomery, \nSan Francisco
URL:https://www.indybay.org/newsitems/2007/09/13/18447326.php
DTSTART:20070919T000000Z
DTEND:20070919T013000Z
END:VEVENT
END:VCALENDAR
