BEGIN:VCALENDAR
VERSION:2.0
X-WR-CALNAME:www.indybay.org
PRODID:-//indybay/ical// v1.0//EN
BEGIN:VEVENT
UID:Indybay-18446913
SEQUENCE:18464441
CREATED:20070911T164900Z
DESCRIPTION:Global Day for Darfur will be held on Sunday, September 16th between 2pm 
 and 6pm at Old St. Mary's Cathedral, at 660 California Street (on the 
 corner of Grant). The movie The Devil Came on Horseback will be screened at 
 2pm and 4pm. There will also be an Interfaith prayer service held at 4pm. 
 \n\nWith over 2 million refugees and 200,000 dead, and thousands more dying 
 each month, the genocide is far from over.\n\n\nThis event is free, but 
 registration is required.  For more information and to register, please 
 contact www.darfursf.org or info@darfursf.org. \n 
 https://www.indybay.org/newsitems/2007/09/11/18446913.php
SUMMARY:Global Day for Darfur
LOCATION: Sunday, September 16th between 2pm and 6pm at Old St. Mary's Cathedral, at 
 660 California Street (on the corner of Grant).
URL:https://www.indybay.org/newsitems/2007/09/11/18446913.php
DTSTART:20070916T210000Z
DTEND:20070917T010000Z
END:VEVENT
END:VCALENDAR
