BEGIN:VCALENDAR
VERSION:2.0
X-WR-CALNAME:www.indybay.org
PRODID:-//indybay/ical// v1.0//EN
BEGIN:VEVENT
UID:Indybay-18446240
SEQUENCE:18463610
CREATED:20070907T220100Z
DESCRIPTION:The Uhuru Benefit Art Auction is a project of the African Liberation 
 Solidarity Campaign. And is co-sponsored by the African Peoples Education & 
 Defense Fund, Inc.\n\nFor a list of donating artists and more info 
 visit:\n\nhttp://www.solidarityforafrica.org\nhttp://www.apedf.org\n\nPlease 
 contact Jeanine Griswa to volunteer or with any other 
 questions.\n\njeanine@solidarityforafrica.org\n510-676-5041\n\n 
 https://www.indybay.org/newsitems/2007/09/07/18446240.php
SUMMARY:Poster to promote African Liberation Art Auction!
LOCATION:San Francisco, East Bay Area\nPoster to promote African Liberation Art 
 Auction! ■\nOn Saturday 9/15th from 10am-2pm we will put up posters in 
 stores to promote┘┘┘..We will meet at Uhuru Solidarity 
 Center.\nTransportation provided to poster routes.\n
URL:https://www.indybay.org/newsitems/2007/09/07/18446240.php
DTSTART:20070915T170000Z
DTEND:20070915T230000Z
END:VEVENT
END:VCALENDAR
