BEGIN:VCALENDAR
VERSION:2.0
X-WR-CALNAME:www.indybay.org
PRODID:-//indybay/ical// v1.0//EN
BEGIN:VEVENT
UID:Indybay-18446058
SEQUENCE:18463387
CREATED:20070906T200700Z
DESCRIPTION:vigilia por los derechos de l@s migrantes en apoyo a elvira arellano y 
 por\nderechos iguales para nuestras comunidades\n\nmiercoles 12 de 
 sept\n6:30 pm\n24 y mision, san pancho\nllame el 415.487.9203 para 
 conseguir mas informacion\n\nvigil for migrants' rights\nin support of 
 elvira arellano and for equal rights for our communities\n\nwednesday sept 
 12\n6:30 pm\n24th and mission, san francisco\ncall 415.487.9203 for more 
 information\n\n\n\n\n--\nMaria Poblet\nComite de Vivienda San Pedro / St. 
 Peter's Housing Committe\n474 Valencia St. Suite 156\nSan Francisco, CA 
 94103\nTel 415.487.9203 / Fax 415.487.9022\n\nvia list\n\n 
 https://www.indybay.org/newsitems/2007/09/06/18446058.php
SUMMARY:Vigilia por los derechos de l@s migrantes
LOCATION:24th and mission, san francisco\n
URL:https://www.indybay.org/newsitems/2007/09/06/18446058.php
DTSTART:20070913T013000Z
DTEND:20070913T023000Z
END:VEVENT
END:VCALENDAR
