BEGIN:VCALENDAR
VERSION:2.0
X-WR-CALNAME:www.indybay.org
PRODID:-//indybay/ical// v1.0//EN
BEGIN:VEVENT
UID:Indybay-18445760
SEQUENCE:18463029
CREATED:20070905T065700Z
DESCRIPTION:\nStaff Report from http://www.marinij.com/fairfax\n\n50th anniversary 
 party is Wednesday for Santa Rita\nStaff Report\nArticle Launched: 
 09/03/2007 10:23:29 PM PDT\n\nSaint Rita's School in Fairfax celebrates its 
 50th anniversary at 9 a.m. Wednesday with a celebration at 102 Marinda 
 Drive.\nSaint Rita, which has about 170 students, serves preschool kids 
 through eighth grade. It is overseen by the San Francisco Archdiocese of 
 the Catholic Church. The event includes a Mass led by the Rev. George 
 Niederauer.\n\nFor details, call Maria Kimball at 456-1008, ext. 
 11.\n\nOther papers that cover Marin\n\nhttp://www.pacificsun.com/ - 
 Independent paper\n\nhttp://sfgate.com/\n\nhttp://www.bohemian.com/ - 
 Independent paper\n\nadd put up by\n 
 https://www.indybay.org/newsitems/2007/09/04/18445760.php
SUMMARY:Saint Rita's School in Fairfax celebrates its 50th anniversary
LOCATION:end a guess
URL:https://www.indybay.org/newsitems/2007/09/04/18445760.php
DTSTART:20070905T160000Z
DTEND:20070905T190000Z
END:VEVENT
END:VCALENDAR
