BEGIN:VCALENDAR
VERSION:2.0
X-WR-CALNAME:www.indybay.org
PRODID:-//indybay/ical// v1.0//EN
BEGIN:VEVENT
UID:Indybay-18445693
SEQUENCE:18462948
CREATED:20070904T213100Z
DESCRIPTION:WEEK OF ACTION FOR WORKERS RIGHTS\n\nSecurity workers need your support in 
 order to secure a decent wage and quality health care.  Join us.\n\nWeek of 
 Action\nSep 24 – 28, 2007\nFinancial District, San Francisco\n \nSan 
 Francisco’s security workers are taking to the streets to demand the 
 city’s wealthiest property owners, including Shorenstein, Morgan Stanley 
 and Hines, give them a living wage and decent health care benefits.  Mostly 
 people of color and new immigrants, San Francisco’s security workers earn 
 less than everyone else in the city’s commercial property buildings, 
 including window washers, parking attendants and janitors.  \n\nBecause of 
 these poverty conditions security workers sometimes have to work two or 
 three jobs to make ends meet.  For more info: www.seiu247.org\n \nAfter 
 months of failed negotiations with property owners and security 
 contractors, San Francisco’s security workers have had enough.  They are 
 taking to San Francisco’s streets Sep Mon 24 - Fri 28 for a week of 
 direct action to get what they need and deserve.   In order to win these 
 workers need the public support of people in the community – people like 
 you!\n\n https://www.indybay.org/newsitems/2007/09/04/18445693.php
SUMMARY:Support SF Security Workers Strike!!
LOCATION:We’re meeting at 1 Front, corner of Front and Market Street at 12pm and 
 4pm every day, Sept 24-28. (1 Front Street is 2 blocks from Embarcadero 
 Train Station).  
URL:https://www.indybay.org/newsitems/2007/09/04/18445693.php
DTSTART:20070925T190000Z
DTEND:20070925T210000Z
END:VEVENT
END:VCALENDAR
