BEGIN:VCALENDAR
VERSION:2.0
X-WR-CALNAME:www.indybay.org
PRODID:-//indybay/ical// v1.0//EN
BEGIN:VEVENT
UID:Indybay-18445103
SEQUENCE:18462280
CREATED:20070831T183000Z
DESCRIPTION:The Last LIP Ever! Friday September 28th.....Get Ready!\n\nIn 
 Co-Celebration with The House of Stormz One Year Anniversary!\n\nWe gwan 
 shake down the town!\n\nNo sign up! Special invitation only ALL 
 STARZ!\n\nYour Master of Ceremonies:\nThe Honorable, SISTER NAU-T\n\nThe 
 Most Fierce MC's In The Bay face off:\nTALIA (Two time battle champ)\nAIMA 
 (Two time battle champ)\nMACK MISSTRESS\nAMORPHEOUS 1\n\nSpoken Word 
 Showcase:\nJUICY\nONE\nSYRA\nNAHI\nKENYA\nCELESTINA PEARL\nMZ. 
 AMY\nSERAFINE\nLADY GRAVITY\nSWEET HONESTY\n\nDJ's:\nOLGA 
 T\nJAMIN\nRAPTURE\n\nCD give aways and door prizes!\n\nF**k white parties! 
 Wear black! To commemorate our sisters and brothers of this nation and all 
 others who've fallen at the hands of tyranny and our inability to change 
 light bulbs to fluorescents. Wear red! In celebration of the warrior spirit 
 in honor of a community that stands for an institution for change!\n\n$10 
 21+w/ID Doors at 9pm Show Promptly at 10pm\n\ngrrrlbattle.com\n\n 
 https://www.indybay.org/newsitems/2007/08/31/18445103.php
SUMMARY:LIP: An All Grrrl MC Battle Celebrates Her 3 Year Anniversary & Finale!
LOCATION:House of Stormz\n1439  105th Ave @ International Blvd/E.14th\nOakland, CA 
 94603
URL:https://www.indybay.org/newsitems/2007/08/31/18445103.php
DTSTART:20070929T040000Z
DTEND:20070929T080000Z
END:VEVENT
END:VCALENDAR
