BEGIN:VCALENDAR
VERSION:2.0
X-WR-CALNAME:www.indybay.org
PRODID:-//indybay/ical// v1.0//EN
BEGIN:VEVENT
UID:Indybay-18443102
SEQUENCE:18460061
CREATED:20070824T192500Z
DESCRIPTION:WAR MADE EASY: \nHow Presidents & Pundits Keep Spinning Us to Death 
 \n\nThis riveting documentary exposes the 50-year long pattern of 
 government deception and media spin that have dragged the U.S. into one war 
 after another from Vietnam to Iraq. The film highlights remarkable footage 
 of official distortion and exaggeration from LBJ to George W. Bush, 
 revealing in stunning detail how the American news media have uncritically 
 disseminated the pro-war messages of successive presidential 
 administrations. It gives special attention to parallels between the 
 Vietnam war and the war in Iraq. Narrated by Sean Penn and guided by Norman 
 Solomon’s meticulous research and tough-minded analysis, the film 
 presents disturbing examples of propaganda and media complicity from the 
 present alongside rare footage of political leaders and leading journalists 
 from the past, including Lyndon Johnson, Richard Nixon, Defense Secretary 
 Robert McNamara, dissident Senator Wayne Morse, and news correspondents 
 Walter Cronkite and Morley Safer. \n \nBefore and after the film, 
 everyone's invited to indulge in our Humanist Tea House. \n\n$5 donations 
 are accepted. \n\n 
 https://www.indybay.org/newsitems/2007/08/24/18443102.php
SUMMARY:Documentary: War Made Easy
LOCATION:Humanist Hall \n390 27th Street, midtown Oakland, between Telegraph and 
 Broadway, below Pill Hill \nhttp://www.HumanistHall.org \n
URL:https://www.indybay.org/newsitems/2007/08/24/18443102.php
DTSTART:20070912T023000Z
DTEND:20070912T043000Z
END:VEVENT
END:VCALENDAR
