BEGIN:VCALENDAR
VERSION:2.0
X-WR-CALNAME:www.indybay.org
PRODID:-//indybay/ical// v1.0//EN
BEGIN:VEVENT
UID:Indybay-18443081
SEQUENCE:18459992
CREATED:20070824T174100Z
DESCRIPTION:The Alternatives to Marriage Project is a national grassroots non-profit 
 that works to end marital status discrimination. The organization’s 
 Executive Director is hosting an event to honor Unmarried & Single 
 Americans Week on Tuesday, September 18th in San Francisco. There will be 
 food, fun and great conversation. There is no ticket price, but there will 
 be an opportunity to donate during the event.  If interested, please 
 contact AtMP to receive a personal invitation and/ to join our mailing 
 list!\n\n \n\n https://www.indybay.org/newsitems/2007/08/24/18443081.php
SUMMARY:Celebrate Unmarried & Single Americans Week!
LOCATION:Femina Potens Art Gallery, 2199 Market Street
URL:https://www.indybay.org/newsitems/2007/08/24/18443081.php
DTSTART:20070919T010000Z
DTEND:20070919T030000Z
END:VEVENT
END:VCALENDAR
