BEGIN:VCALENDAR
VERSION:2.0
X-WR-CALNAME:www.indybay.org
PRODID:-//indybay/ical// v1.0//EN
BEGIN:VEVENT
UID:Indybay-18442875
SEQUENCE:18459758
CREATED:20070823T225400Z
DESCRIPTION:SEPT 29: National March on Washington\nSEPT 22-29: Encampment in Front of 
 Congress to STOP the War -\nParallel Encampment and Demo in\nLos Angeles 
 (Bus leaving from San Francisco - contact S.F. Troops Out Now)\n\n70 
 Organizing Centers in 32 States - 100 buses -\nfind one near you!\n\nStop 
 the War at Home and Abroad!\nTroops Out Now!\nImpeach Bush & Cheney for War 
 Crimes!\nEnd All Occupations -- from Iraq to Palestine to Haiti to the 
 Philippines!\n\n \n\nSame Struggle Same Fight!\nLet's act in unity with 
 many movements and struggles raising demands including:\n\n* No War against 
 Iran\n* End all occupations now - from Iraq to Palestine, the Philippines, 
 Haiti, Puerto Rico, and Afghanistan\n* Support The Right to Return - from 
 Palestine to New Orleans\n* No to U.S. intervention - Hands off Cuba, 
 Venezuela, Colombia, Zimbabwe, and the Sudan\n* Stop the raids against 
 immigrant workers -- Full rights for undocumented workers\n* Justice for 
 Katrina survivors - End racist police terror - Stop the war against 
 Muslims\n* Free Mumia Abu-Jamal and all political prisoners\n* Money for 
 health care, jobs and education, not endless war \n 
 https://www.indybay.org/newsitems/2007/08/23/18442875.php
SUMMARY:Troops Out Now Encampment and March
LOCATION:In Washington DC: Encampment directly in front of the Capitol building.\nIn 
 Los Angeles: Westwood Federal building
URL:https://www.indybay.org/newsitems/2007/08/23/18442875.php
DTSTART:20070922T190000Z
DTEND:20070923T070000Z
END:VEVENT
END:VCALENDAR
