BEGIN:VCALENDAR
VERSION:2.0
X-WR-CALNAME:www.indybay.org
PRODID:-//indybay/ical// v1.0//EN
BEGIN:VEVENT
UID:Indybay-18441497
SEQUENCE:18458218
CREATED:20070819T092700Z
DESCRIPTION:MACHINE TREE\nAnimation and Experimental Film\n\n\nAnimation cuts to the 
 heart of things in a way live action often forgets how to do.  With 
 abstraction, puppets and clay, beauty and emotion can be expressed more 
 simply and more directly than what we've come to expect from the human 
 face.  Instead of a million years of inherited facial response, we have the 
 language of dreams. experimental film uses the similar abstractions. both 
 allow for the communication of the suddle context necessary for 
 transferring information that exits outside of the mainstream dialog. \n 
 \nMachine tree hopes to give light to these potentials within animation. 
 Instead of endeavoring to simulate reality more and more accurately, we 
 intend to remind ourselves of the necessity of unreality, the horror of raw 
 perception, the wonder we all share at stories told in their rawest, purest 
 form.\n\n https://www.indybay.org/newsitems/2007/08/19/18441497.php
SUMMARY:MACHINE TREE
LOCATION:Artists' Television Access\n992 Valencia Street\nSan Francisco, CA 94110
URL:https://www.indybay.org/newsitems/2007/08/19/18441497.php
DTSTART:20070825T030000Z
DTEND:20070825T050000Z
END:VEVENT
END:VCALENDAR
