BEGIN:VCALENDAR
VERSION:2.0
X-WR-CALNAME:www.indybay.org
PRODID:-//indybay/ical// v1.0//EN
BEGIN:VEVENT
UID:Indybay-18441142
SEQUENCE:18457750
CREATED:20070817T023900Z
DESCRIPTION:Monday Sept 10th at 7.30pm at Anna's Jazz Island: Brief Intro: Advancing 
 green values. History and future followed by... Featured Speaker: Wilson 
 Riles on "American Empire, ecological wisdom, and the Green Party." People 
 of all political stripes are encouraged to attend. These events will be 
 about green values in general. For more details about the event on Sept 
 10th Click Here\n\n 
 https://www.indybay.org/newsitems/2007/08/16/18441142.php
SUMMARY:Berkeley Green Mondays
LOCATION:Anna's Jazz Island\n2120 Allston Way, Berkeley\n(beside downtown Berkeley 
 Bart)
URL:https://www.indybay.org/newsitems/2007/08/16/18441142.php
DTSTART:20070911T023000Z
DTEND:20070911T043000Z
END:VEVENT
END:VCALENDAR
