BEGIN:VCALENDAR
VERSION:2.0
X-WR-CALNAME:www.indybay.org
PRODID:-//indybay/ical// v1.0//EN
BEGIN:VEVENT
UID:Indybay-18440844
SEQUENCE:18457337
CREATED:20070815T145700Z
DESCRIPTION:Friday, August 17, 7:30 PM from www.mpjc.org\nPosada Carriles – the 
 film\nNew Film Documentary Showing in Marin\nPosada Carriles: Terrorism 
 Made in USA documents the terrorist path of Posada Carriles, including the 
 1976 bombing of the Cubana airliner and his longstanding relationship with 
 the CIA. The demand for justice for the survivors and those who lost family 
 members because of Posada Carriles' actions comes to life on the screen to 
 remind us all that terrorism cannot be justified under any circumstances. 
 George W. Bush himself said, "Those that harbor terrorists, are also 
 terrorists."\nIntroducing the film will be Gloria La Riva, Coordinator of 
 the National Committee to Free the Cuban Five and leading organizer in the 
 campaign for Posada's extradition from the comforts of life in Miami to 
 face trial in Venezuela.\nThe film will be shown on Friday, August 17, 7:30 
 PM at The Redwoods Presbyterian Church, 110 Magnolia Avenue, Larkspur. A 
 $5-10 donation is requested. No one will be turned away for lack of funds. 
 This event is sponsored by the Marin Interfaith Task Force on the Americas. 
 For more information call 415/924-3227, email mitf@igc.org or go to 
 www.mitfamericas.org.\n\nDVD Review: Posada Carriles - Terrorism Made in 
 USA \nPosada Carriles is the man this documentary revolves around. .... 
 Film » Matt Paprocki Says House of Wax Not Happening, Even on HD DVD, Josh 
 Lasser - Jackie ...\n\nblogcritics.org/archives/2007/08/07/004452.php - 50k 
 - Similar pages 
 \n\nhttp://blogcritics.org/archives/2007/08/07/004452.php\nVenezuela to 
 film thriller about Posada Carriles | Cuba News... \nThe director ruled out 
 the intention to make a biography of Posada Carriles, but rather treat this 
 notorious figure like he is, taking into account what he 
 ...\n\nwww.cubaheadlines.com/2007/07/28/4777/venezuela_... - 17k - Similar 
 pages 
 \n\nhttp://www.cubaheadlines.com/2007/07/28/4777/venezuela_to_film_thriller_about_posada_carriles.html\nPosada 
 Carriles Star of New Film \nPosada Carriles Star of New Film. Thu Jun 07, 
 2007 at 06:10:29 AM. A new documentary, "Posada Carriles: Terrorism Made in 
 USA," recounts the exploits of 
 ...\n\nblogs.miaminewtimes.com/riptide/2007/06/posada_c... - 32k - Similar 
 pages 
 \n\nhttp://blogs.miaminewtimes.com/riptide/2007/06/posada_carriles_star_of_new_fi.php\nInternational 
 terrorist Posada Carriles released in the U.S.... \nInternational terrorist 
 Luis Posada Carriles was released today by U.S. ... Cuban film director 
 Humberto Solas, fouder and president of the festival, 
 ...\n\nwww.indybay.org/newsitems/2007/04/19/18401779.ph... - 37k - Similar 
 pages 
 \n\nhttp://www.indybay.org/newsitems/2007/04/19/18401779.php\nVIOLATION OF 
 HUMAN RIGHTS: THE LUIS POSADA CARRILES CASE \nLuis Posada Carriles is a 
 patriot who served the United States honorably and with ... COVERING CUBA, 
 premiered at the American Film Institute in 1995, 
 ...\n\nwww.amigospais-guaracabuya.org/oagaq129.php - 13k - Similar pages 
 \n\nhttp://www.amigospais-guaracabuya.org/oagaq129.php\nNational Committee 
 to Free the Cuban Five \n•August 17, Larkspur, CA: Film showing of 
 "Posada Carriles: Terrorism Made in USA" ... Film showings of "Posada 
 Carriles: Terrorism Made in USA" ...\n\nwww.freethefive.org/calendar.htm - 
 20k - Similar pages \n\nhttp://www.freethefive.org/calendar.htm\nNational 
 Committee to Free the Cuban Five \nPurchase a copy of the film now. "Posada 
 Carriles: Terrorism Made in USA", a Telesur and PanaFilms co-production, is 
 a brand-new feature-length documentary 
 ...\n\nwww.freethefive.org/posadafilm.htm - 15k - Similar pages 
 \n\nhttp://www.freethefive.org/posadafilm.htm\nDOCUMENTARY: TERRORISM MADE 
 IN USA \n... mitf@igc.org TERRORISM MADE IN U.S.A. The new film, Posada 
 Carriles: Terrorism Made in USA, documents the terrorist path of Posada 
 Carriles, ...\n\nwww.bapd.org/n8855.html - 2k - Similar pages 
 \n\nhttp://www.bapd.org/n8855.html\nPosada Carriles: Made in USA \nThe 
 Venezuelan documentary film “Posada Carriles: Made in USA”, a Telesur 
 and PanaFilms co-production. It is the result of two years of meticulous 
 research ...\n\nwww.atasite.org/calendar/?x=2365 - 6k - Similar pages 
 \n\nhttp://www.atasite.org/calendar/?x=2365\nYouTube - Posada Carriles: 
 Terrorism Made in USA \nA trailer for a new film by Venezuelan filmmaker 
 Angel Palacios. ... Venezuela indignada por liberación de Luis Posada 
 Carriles 04:51. From: radioaporrea 
 ...\n\nwww.youtube.com/watch?v=k8PX7xfefcs - 87k - Similar pages 
 \n\nhttp://www.youtube.com/watch?v=k8PX7xfefcs\n\n\nadd put up by \n 
 https://www.indybay.org/newsitems/2007/08/15/18440844.php
SUMMARY:Posada Carriles{Larkspur-Marin Interfaith Doc. Showing}Gloria La Riva-US Free Cuba 5 Comm.
LOCATION:Guess on end of meeting
URL:https://www.indybay.org/newsitems/2007/08/15/18440844.php
DTSTART:20070818T023000Z
DTEND:20070818T050000Z
END:VEVENT
END:VCALENDAR
