BEGIN:VCALENDAR
VERSION:2.0
X-WR-CALNAME:www.indybay.org
PRODID:-//indybay/ical// v1.0//EN
BEGIN:VEVENT
UID:Indybay-18439727
SEQUENCE:18455932
CREATED:20070809T221800Z
DESCRIPTION:Sir! No Sir!\nA FILM ABOUT GI RESISTANCE\nJoin us for a film screening and 
 discussion about this 2007 film which tells the untold story of one of the 
 most vibrant and widespread upheavals of the 1960s -- the GI movement to 
 end the war in Vietnam. \n \nSponsored by Party for Socialism & 
 Liberation.\n$3 - $5 donation requested, no one turned away for lack of 
 funds.\n(Refreshments served. Cross street 21st. Near 24th St. BART. MUNI 
 #14, 49, 26. Parking garage located one block west on 21st. St. btwn. 
 Mission & Valencia, parking cost $2/hr.) \nFor more info, or to reserve 
 free childcare (please call at least one day in advance if you would like 
 childcare) contact PSL at 415-821-6171.\n\n 
 https://www.indybay.org/newsitems/2007/08/09/18439727.php
SUMMARY:Film & Discussion: SIR! NO SIR!
LOCATION:2489 Mission Street (near 21st)\nSan Francisco
URL:https://www.indybay.org/newsitems/2007/08/09/18439727.php
DTSTART:20070818T020000Z
DTEND:20070818T040000Z
END:VEVENT
END:VCALENDAR
