BEGIN:VCALENDAR
VERSION:2.0
X-WR-CALNAME:www.indybay.org
PRODID:-//indybay/ical// v1.0//EN
BEGIN:VEVENT
UID:Indybay-18439298
SEQUENCE:18455349
CREATED:20070807T173500Z
DESCRIPTION:A cafe night to benefit Roadblock EF!, a group in Indiana working to stop 
 the I-69 NAFTA superhighway, slated for constrution starting spring, 2008. 
 For $5-10 if you have it, enjoy delicious dinner, old timey music and 
 information on I-69. Learn what people are doing to stop the road monster 
 and how you can help.\nno one turned away for lack of funds!\n\n 
 https://www.indybay.org/newsitems/2007/08/07/18439298.php
SUMMARY:CAFE NIGHT TO BENEFIT ANTI I-69 EFFORTS
LOCATION:the Long Haul, 3124 Shattuck Ave at Woolsey
URL:https://www.indybay.org/newsitems/2007/08/07/18439298.php
DTSTART:20070813T020000Z
DTEND:20070813T060000Z
END:VEVENT
END:VCALENDAR
