BEGIN:VCALENDAR
VERSION:2.0
X-WR-CALNAME:www.indybay.org
PRODID:-//indybay/ical// v1.0//EN
BEGIN:VEVENT
UID:Indybay-18439170
SEQUENCE:18455183
CREATED:20070806T214000Z
DESCRIPTION:The Mill Valley City Council\n\nwww.cityofmillvalley.org/citycouncil.html - 
 1k - Cached - Similar pages\n\n	 	Mill Valley residents put down Miller 
 Avenue plan (57%)\n07/31/2007 - Mill Valley officials are moving ahead with 
 plans to redevelop Miller Avenue despite a public outcry over the 
 controversial project.   similar results\n\n\n 	All About Marin: Mill 
 Valley to start recording council meetings (60%)\n04/10/2007 - MILL VALLEY 
 is taking a bold leap into the 21st century. The City Council is going to 
 begin recording its meetings.   similar results \n\nadd  by\n 
 https://www.indybay.org/newsitems/2007/08/06/18439170.php
SUMMARY:Mill Valley City Council Meet.>Considering A Senior Building Inspector>Dept. of Plan./Bu.
LOCATION:The City Council meets on the 1st & 3rd Mondays each month at 7:30 p.m. in 
 the Council Chambers at Mill Valley City Hall, 26 Corte Madera Avenue 
 ...\n\nguess on end of meeting
URL:https://www.indybay.org/newsitems/2007/08/06/18439170.php
DTSTART:20070807T023000Z
DTEND:20070807T053000Z
END:VEVENT
END:VCALENDAR
