BEGIN:VCALENDAR
VERSION:2.0
X-WR-CALNAME:www.indybay.org
PRODID:-//indybay/ical// v1.0//EN
BEGIN:VEVENT
UID:Indybay-18437944
SEQUENCE:18453631
CREATED:20070730T150100Z
DESCRIPTION:For more info on the following, call 415-821-6545 or email 
 answer@answersf.org.\n\nGet involved in organizing for the Oct. 27 Mass 
 March to "End the War Now!" in San Francisco. Volunteer Now!\n\nSAVE THE 
 DATE:\nThurs. Aug. 9, 7:30pm\nATA, 992 Valencia St. at 21st $6 
 donation\n\nA.N.S.W.E.R. Coalition Film Series\nMontaña de Luz (Mountain 
 of Light)\n\nThe Cuban documentary “Montaña de Luz”—produced by 
 ICAIC (Instituto Cubano del Arte e Industria Cinematográficos)—follows 
 Cuban doctors working in collaboration with communities throughout Latin 
 America and Africa.The doctors work for no pay in areas of the world where 
 there is either no medical care available or where the few local doctors 
 are unable to meet the enormous need, in the case of the AIDS epidemic in 
 Namibia and flood victims in Haiti.\n\nThe Cuban doctors often work 
 alongside medical interns returning to their home country from Cuba after 
 graduating from medical school. In Cuba, free medical training is provided 
 for any student—the only requirement being that the student return to 
 their home country and use their skills working within the most oppressed 
 communities. Beyond the material aid the Cubans give, they also provide an 
 important example that another world is possible. A world where care 
 replaces the drive for profit. The film carries with it a deep message of 
 internationalism, solidarity and humanism. 2005, 53min, Spanish w/ English 
 subtitles, Directed by Guillermo Centeno\n \nA.N.S.W.E.R. Coalition\nAct 
 Now to Stop War & End Racism\nhttp://www.ANSWERcoalition.org 
 http://www.actionsf.org\nsf@internationalanswer.org\n2489 Mission St. Rm. 
 24\nSan Francisco: 415-821-6545\n\nMake a tax-dedctible donation to 
 A.N.S.W.E.R. by credit card over a secure server, learn how to donate by 
 check.\n\nUnsubscribe from this list - if you experience a problem please 
 email answer@actionsf.org  \n\nMontaña de luz (2005)\nMontaña de luz on 
 IMDb: Movies, TV, Celebs, and more... ... Discuss this title with other 
 users on IMDb message board for Montaña de luz (2005) 
 ...\nwww.imdb.com/title/tt0797028/ - 29k - Cached - Similar pages\n\nCuba 
 Friendship Group of Greater Ithaca » Blog Archive » Film ...\nMontaña de 
 luz Mountain of Light is a collaborative documentary project which involved 
 three Cuban film crews visiting Honduras, Haiti, Guatemala, Mali, 
 ...\nwww.ithacacubafriendship.org/?p=28 - 20k - Cached - Similar 
 pages\nCuban movie Montaña de Luz, awarded on the Bahia Festival\nThe 
 Cuban documentary Montaña de luz (Mountain of Light), produced by the 
 ICAIC, under the general direction of Guillermo Centeno, obtained the 
 Golden Tatu, 
 ...\nwww.cubanow.net/global/loader.php?&secc=8&item=1419&cont=show.php - 
 12k - Cached - Similar pages\nLa Edad de la Peseta, a Cuban movie, achieves 
 an award in the ...\nThe Cuban feature film, La Edad de la Peseta (That 
 awkward age), directed by Pavel Giroud, ... Cuban movie Montaña de Luz, 
 awarded on the Bahia Festival 
 ...\nwww.cubanow.net/global/loader.php?&secc=8&item=1415&cont=show.php - 
 18k - Cached - Similar pages\n:::: Mag:net Cafe Katips ::::\nSaturday, July 
 28, is a Cuban film feature entitled Montana de Luz, which chronicles the 
 struggles and triumphs of Cuban's “doctors without borders”, 
 ...\nwww.magnet.com.ph/exhibition/cine/2007/07-23.htm - 12k - Cached - 
 Similar pages\n7thArt.org / Cinemapolis.org Home\nThe film features 
 Ithacans Danny Burns, Clare Grady, Peter DeMott and Teresa Grady. ... 
 Mountain of Light/ Montana de Luz Spanish 54mins Cuba 2005 
 ...\nwww.cinemapolis.com/home.asp - 41k - Cached - Similar pages\nMONTANA 
 DE LUZ CUBAN MOVIE POSTER CILLAVERDE 2005 CUBA\n"MONTANA DE LUZ " FULL 
 ORIGINAL SIZE NOT A SMALL REPRODUCTION This is a genuineCuban Silkscreen 
 movie poster, GENERALLY MORE THAN ONE PRINTING HAS BEEN 
 ...\ncgi.ebay.com/MONTANA-DE-LUZ-CUBAN-MOVIE-POSTER-CILLAVERDE-2005-CUBA_W0QQitemZ190117948422QQcmdZViewItem 
 - Similar pages\nMontana de Luz\nMontaña de Luz was started several years 
 ago, after Hurricane Mitch devastated .... Chris asked me to review some 
 design ideas for the adolescent housing, 
 ...\nwww.dlarch.com/Montana%20de%20Luz.html - 45k - Cached - Similar 
 pages\n\n\nadd put up by\n 
 https://www.indybay.org/newsitems/2007/07/30/18437944.php
SUMMARY:ANSWER Coalition Film Series: Cuban Doc. “Montaña de Luz"(Mountain of Light)
LOCATION:2489 Mission St. #30, San Francisco Chapter\nnear 24th St. BART, #14, #49 
 MUNI\n\n\n
URL:https://www.indybay.org/newsitems/2007/07/30/18437944.php
DTSTART:20070810T023000Z
DTEND:20070810T050000Z
END:VEVENT
END:VCALENDAR
