BEGIN:VCALENDAR
VERSION:2.0
X-WR-CALNAME:www.indybay.org
PRODID:-//indybay/ical// v1.0//EN
BEGIN:VEVENT
UID:Indybay-18436859
SEQUENCE:18452304
CREATED:20070723T034600Z
DESCRIPTION:WHAT THE BLEEP DO WE KNOW? \nPresented by Pamela Deering \n\nThis exciting 
 and popular feature film is part documentary, part story, and part 
 inspiring visual effects. The story revolves around a woman who finds 
 herself in a fantastic Alice in Wonderland experience when her daily, 
 uninspired life unravels, revealing the uncertain world of the quantum 
 field hidden behind her normal, waking reality. Like every hero, our 
 heroine is thrown into crisis, questioning the fundamental premises of her 
 life. As she conquers her fears, gains wisdom, and wins the keys to the 
 great secrets of the ages, she is no longer the victim of circumstances, 
 but the creative force in her life. Fourteen top scientists and mystics are 
 interviewed in documentary style throughout the film, serving as a modern 
 day Greek Chorus. Their ideas are woven together as a tapestry of truth. 
 The thoughts and words of one member of the chorus blend into those of the 
 next, adding further emphasis to the film’s underlying concept of the 
 interconnectedness of all things. Through the course of this spiritual 
 film, the distinction between science and religion becomes blurred as it 
 shows us that, in essence, both science and religion describe the same 
 phenomena. \n\nBefore and after the film, everyone's invited to indulge in 
 our Humanist Tea House. \n\n$5 donations are accepted. \n\n 
 https://www.indybay.org/newsitems/2007/07/22/18436859.php
SUMMARY:What the Bleep Do We Know?
LOCATION:Humanist Hall \n390 27th Street \nmidtown Oakland, between Telegraph and 
 Broadway, below Pill Hill \nhttp://www.HumanistHall.net 
URL:https://www.indybay.org/newsitems/2007/07/22/18436859.php
DTSTART:20070816T023000Z
DTEND:20070816T043000Z
END:VEVENT
END:VCALENDAR
