BEGIN:VCALENDAR
VERSION:2.0
X-WR-CALNAME:www.indybay.org
PRODID:-//indybay/ical// v1.0//EN
BEGIN:VEVENT
UID:Indybay-18436731
SEQUENCE:18452152
CREATED:20070722T014100Z
DESCRIPTION:Friday August 17 - 6:30 pm \nAward winning singer-songwriter HALI HAMMER 
 performs LIVE MUSIC to introduce \n"SHUT UP and SING" the documentary about 
 the DIXIE CHICKS. \nat the Berkeley Fellowship of Unitarian Universalists 
 Hall \n1924 Cedar St. at Bonita (a block above MLK Jr Wy,) Berkeley 94709 
 \n\nWonderful music!  Courageous womyn speaking and singing out! 
 \nConscientious Projector Film Series of BFUU's Social Justice Com 
 \nWheelchair access. Donations accepted. \nFilm starts shortly after 7pm, 
 followed by more live music, audience discussion, and political action. 
 \n510-665-3306 \n\nThe Dixie Chicks were the top-selling female recording 
 artists of all time when one of them ad libbed in concert about being 
 ashamed of Bush's war-mongering. This sparked a firestorm of right wing 
 attacks. This funny film covers the band riding out the mayhem and evolving 
 into even greater artists who bow to no one. \n"An amazing film!  Makes you 
 want to stand up and cheer." \n\nhttp://www.halihammer.com/ 
 \nhttp://www.bfuu.org\n\n 
 https://www.indybay.org/newsitems/2007/07/21/18436731.php
SUMMARY:Screening of "Shut Up & Sing" with musical intro by Hali Hammer
LOCATION:Berkeley Fellowship of Unitarian Universalists Hall \n1924 Cedar St. at 
 Bonita (a block above MLK Jr Wy,) Berkeley 94709 \n
URL:https://www.indybay.org/newsitems/2007/07/21/18436731.php
DTSTART:20070818T013000Z
DTEND:20070818T040000Z
END:VEVENT
END:VCALENDAR
