BEGIN:VCALENDAR
VERSION:2.0
X-WR-CALNAME:www.indybay.org
PRODID:-//indybay/ical// v1.0//EN
BEGIN:VEVENT
UID:Indybay-18436379
SEQUENCE:18451748
CREATED:20070719T235600Z
DESCRIPTION:Thurs. July 19th\nUrban Alliance for Sustainability Green Movie 
 Night\nLittle Roxie Theater, 3125 16th Street\nSan Francisco, 
 CA\nhttp://www.uas. coop/node/ 633\n\nTwo Films! -- Point of Return (short) 
 & Escape from Affluenza (feature)\nCome absorb some of the most insightful 
 films, documentaries and\ncommentaries across a wide spectrum of relevant 
 topics of today and\ntomorrow at UAS Green Movie Night & Forum at the Roxie 
 film center.\n*If you become a full member you get 1/2 off! For more info 
 go to\nhttp://www.UAS. coop/join\n 
 https://www.indybay.org/newsitems/2007/07/19/18436379.php
SUMMARY:Urban Alliance for Sustainability Green Movie Night
LOCATION:Little Roxie Theater, 3125 16th Street\nSan Francisco, CA
URL:https://www.indybay.org/newsitems/2007/07/19/18436379.php
DTSTART:20070720T010000Z
DTEND:20070720T040000Z
END:VEVENT
END:VCALENDAR
