BEGIN:VCALENDAR
VERSION:2.0
X-WR-CALNAME:www.indybay.org
PRODID:-//indybay/ical// v1.0//EN
BEGIN:VEVENT
UID:Indybay-18434673
SEQUENCE:18449781
CREATED:20070711T152900Z
DESCRIPTION:Healthcare, YES!\nINSURANCE COMPANIES, NO!\n\nRally for True Universal 
 Healthcare\nAt Blue Shield Headquarters.\n\nPASS SB 840 (Kuehl)\nThe 
 California Universal Healthcare Act \n\nWednesday,  August 8,  12 Noon\n50 
 Beale Street, at offices of Blue Shield\n(Betwn. Market & Mission and 
 Fremont & Main – Embarcadero BART/MUNI)\n\nJOIN US!!\n\nThis event is San 
 Francisco’s Day as part of the California 365 City Campaign for Universal 
 Healthcare.  We will give away OneCareNow’s DVD on removing insurance 
 companies from  California’s healthcare.\n\nSponsored by:  California 
 Alliance for Retired Americans (CARA), California Health Care Organizing 
 Project, California Nurses Association, Gray Panthers of SF, League of 
 Women Voters – SF, Planning for Elders, San Francisco for Democracy, 
 Senior Action Network, SEIU 1021, United Educators of San Francisco (UESF 
 #61), S. F. OWL, Healthcare Action Team (HAT) (partial list)\n\nFor more 
 information on this event 
 see\nhttp://graypantherssf.igc.org/calendar.htm#08_08\n\n\n 
 https://www.indybay.org/newsitems/2007/07/11/18434673.php
SUMMARY:Healthcare, YES! INSURANCE COMPANIES, NO!
LOCATION:50 Beale Street, at offices of Blue Shield\n(Betwn. Market & Mission and 
 Fremont & Main – Embarcadero BART/MUNI)
URL:https://www.indybay.org/newsitems/2007/07/11/18434673.php
DTSTART:20070808T190000Z
DTEND:20070808T200000Z
END:VEVENT
END:VCALENDAR
