BEGIN:VCALENDAR
VERSION:2.0
X-WR-CALNAME:www.indybay.org
PRODID:-//indybay/ical// v1.0//EN
BEGIN:VEVENT
UID:Indybay-18432913
SEQUENCE:18447513
CREATED:20070703T190100Z
DESCRIPTION:Come join the largest public gathering in Northern California \nof local 
 environmental groups,\ncivic leaders, artists, musicians and friends of 
 Live Earth!\n\nTell your folks and bring your friends!\nAll are 
 invited!\n\n https://www.indybay.org/newsitems/2007/07/03/18432913.php
SUMMARY:Live Earth concerts viewing party
LOCATION:Jillian's Video Cafe at 101 4th street and Howard- inside Metreon.
URL:https://www.indybay.org/newsitems/2007/07/03/18432913.php
DTSTART:20070707T180000Z
DTEND:20070708T000000Z
END:VEVENT
END:VCALENDAR
