BEGIN:VCALENDAR
VERSION:2.0
X-WR-CALNAME:www.indybay.org
PRODID:-//indybay/ical// v1.0//EN
BEGIN:VEVENT
UID:Indybay-18428818
SEQUENCE:18442862
CREATED:20070620T182800Z
DESCRIPTION:Golden Protest Productions\nPresents:\nRevolutionary Tea  Party\n   \n\nFor 
 Immediate Release\n\nWhat: An Alternative Independence Day Celebration with 
 the live sounds of Laughing Gravy \nWhen: Friday, July 6. 2007, doors open 
 7:00 pm – Show starts 7:30 pm \nWhere: Sebastopol Community Center, 390 
 Morris St. \nContact:  Barry Latham-Ponneck (707) 829-1928, smash@sonic.net 
 \n\n\nTired of the bombs bursting in air and the rocket’s red 
 glare?\nWant to re-capture the Revolutionary spirit of Independence 
 Day?\n\nJoin the Revolutionary Tea Party!\nSongs of Protest, songs of Hope, 
 songs of Peace\nWith: Grammy nominated, Laughing Gravy & friends \nLaughing 
 Gravy will take you on a magical mystery tour, with anti-war songs, musical 
 rabble rousing, and a rockin’ tribute to the Summer of Love.\n\nTo spice 
 up the evening we’re inviting you to dress as your favorite 
 revolutionary, or put on your beads, granny glasses and patchouli oil and 
 be part of the Summer of Love!\n\nAdmission: Advance -- $12	Door -- 
 $15\nSeniors, Disabled, Economically challenged, Students, & those who come 
 in costume: $12\nTickets available in advance: Sebastopol Community Center 
 – 390 Morris St.  Last Record Store -- Santa Rosa, \nPeople’s Music -- 
 Sebastopol\nportion of proceeds to KRCB public radio\n\nFor more info: 
 707-829-1928           \n\n 
 https://www.indybay.org/newsitems/2007/06/20/18428818.php
SUMMARY:Revolutionary Tea Party
LOCATION:390 Morris St., Sebastopl , CA.\nOff of hwy. 12, east side of Sebastopol
URL:https://www.indybay.org/newsitems/2007/06/20/18428818.php
DTSTART:20070707T023000Z
DTEND:20070707T073000Z
END:VEVENT
END:VCALENDAR
