BEGIN:VCALENDAR
VERSION:2.0
X-WR-CALNAME:www.indybay.org
PRODID:-//indybay/ical// v1.0//EN
BEGIN:VEVENT
UID:Indybay-18428806
SEQUENCE:18442872
CREATED:20070620T170400Z
DESCRIPTION:A M ovie “Yol” and a Panel : How\nViolence Against Women has increased 
 in\nK urdistan, I raq, Afghanistan, and the\nRegion. Amnesty also Presents 
 a\nCampaign “M aze of Injustice”\nSpeakers:\nDr. Roxanne Dunbar 
 -Ortiz\nAuthor,Feminist, Historian &\ninternational Human Rights 
 Activist\nAnn Fagen Ginger\nHuman Rights attorney, Executive\nDirector of M 
 eiklejohn Civil\nLiberties Institute (M CLI=Human\nRights Now)\nKristina 
 Alayan\nHuman Right Law Student and Intern\nAmanda Pacheco\nHuman Right Law 
 Student and Intern\nEli PaintedCrow\nA Native American and I raq War 
 Veteran\nDr. Sureya Sayadi\nK urdish Peace and Human Rights Activist\n 
 https://www.indybay.org/newsitems/2007/06/20/18428806.php
SUMMARY:Violence Against Women Film Screening and Panel
LOCATION:University of San Francisco\nM cLaren Conference Center\nRoom 252\n2130 
 Fulton Street (at Clayton St)
URL:https://www.indybay.org/newsitems/2007/06/20/18428806.php
DTSTART:20070620T230000Z
DTEND:20070621T030000Z
END:VEVENT
END:VCALENDAR
