BEGIN:VCALENDAR
VERSION:2.0
X-WR-CALNAME:www.indybay.org
PRODID:-//indybay/ical// v1.0//EN
BEGIN:VEVENT
UID:Indybay-18426995
SEQUENCE:18440864
CREATED:20070612T211600Z
DESCRIPTION:Josh Wolf will appear on the Colbert Report at 11:30pm Pacific time. This 
 show is on Comedy Central channel on cable, and should appear for free on 
 their website afterwards. Wolf spent 200+ days in jail for refusing to 
 testify to a grand jury about footage of a anti-g8 protest in the Mission 
 district in 2005 - which was first published at indybay.org\n 
 https://www.indybay.org/newsitems/2007/06/12/18426995.php
SUMMARY:Josh Wolf on Colbert Report
LOCATION:Cable television
URL:https://www.indybay.org/newsitems/2007/06/12/18426995.php
DTSTART:20070613T060000Z
DTEND:20070613T063000Z
END:VEVENT
END:VCALENDAR
