BEGIN:VCALENDAR
VERSION:2.0
X-WR-CALNAME:www.indybay.org
PRODID:-//indybay/ical// v1.0//EN
BEGIN:VEVENT
UID:Indybay-18426373
SEQUENCE:18440102
CREATED:20070610T012200Z
DESCRIPTION:Reading at Modern Times Bookstore\n888 Valencia St (between 19th and 
 20th)\nThursday, June 14th at 7:30 pm\n\nwith Ecstatic Monkey 
 Members:\nPage McBee and Clare-Marie Myers\n\nMichelle Tea is the author of 
 a single book of poetry, four memoirs, a novel, and some edited 
 anthologies, most recently "Baby Remember My Name: New Queer Girl Writing." 
 She runs Radar Productions, which curates literary performance events all 
 over the place. Her first novel "Rose of No-Man's Land" was recently 
 released by MacAdam Cage.\n\nPage McBee is a writer, teacher, and events 
 organizer originally from Pittsburgh. Her writing has been published in 
 Boston's "Weekly Dig," Pittsburgh's "City Paper," "Lifeboat," "Deek 
 Magazine," "Curve Magazine," and the anthology "Baby, Remember My 
 Name,"edited by Michelle Tea. Page is currently working with high school 
 creative writing students as a guest artist at San Francisco's School of 
 the Arts, and pursuing in MFA in Fiction at San Francisco State University. 
 She is also spending most of her free time hard at work on her first novel, 
 a cross-country multimedia adventure about astronomy, family, forgiveness, 
 and the strange topography of hope.\n\nClare Marie Myers was born on a 
 winter morning in Chicago, IL. Some stuff happened, and now she's a 
 graduate student at San Francisco State University. She writes poetry and 
 short fiction; among other things, she is currently working on a collection 
 of contemporary sonnets about life in a fictional town on the US/Mexico 
 border.\n\n https://www.indybay.org/newsitems/2007/06/09/18426373.php
SUMMARY:Michelle Tea
LOCATION:Modern Times Bookstore\n888 Valencia @ 20th\nSan Francisco, CA 94110
URL:https://www.indybay.org/newsitems/2007/06/09/18426373.php
DTSTART:20070615T023000Z
DTEND:20070615T040000Z
END:VEVENT
END:VCALENDAR
