BEGIN:VCALENDAR
VERSION:2.0
X-WR-CALNAME:www.indybay.org
PRODID:-//indybay/ical// v1.0//EN
BEGIN:VEVENT
UID:Indybay-18422988
SEQUENCE:18436498
CREATED:20070531T061400Z
DESCRIPTION:In advance of Saturday's big event at 16th & Broadway, we've just learned 
 that Hillary Clinton will be at a $4,600 per plate fundraiser dinner 
 Thursday, May 31, at 6pm at the home of Eleni and Markos Kounalakis, so we 
 want to be there to greet 
 her.\n\nSee:\nhttp://latimesblogs.latimes.com/politicalmuscle/2007/05/new_clinton_fun.html\n\nAs 
 most of us know, Hillary is one of the people responsible for the 
 disgraceful path that the Democratic Party has taken over the last several 
 years since 9-11, so please join us on Thursday, May 31 (tomorrow or today, 
 depending on when you get this).\n\nWe'll meet at 5pm as close to 2500 E 
 TIFFANY LN, SACRAMENTO, CA 95827 as we can get.\n\nTo get to 2500 E TIFFANY 
 LN from Downtown, take HWY 50 to Bradshaw Rd exit and turn left on 
 Bradshaw.  Follow Bradshaw to Folsom Blvd, then turn right on Folsom Bl.  
 Continue on Folsom until you get to Rod Beaudry Drive.  Turn left on Rod 
 Beaudry and continue until you see E. Tiffany Ln.  We'll gather at that 
 intersection of Rod Beaudry and E. Tiffany, or as close to that as we can 
 get while still remaining in compliance with applicable laws.\n\nPlease 
 bring signs telling Hillary how disgusted we are with her and the 
 Democratic Party.\n\nExamples:\n\nTHE PARTY IS SPINELESS!\nHILLARY ROLLS 
 OVER FOR AIPAC!\nLEAVE IRAN ALONE!\nHILLARY, STOP YOUR WAR MONGERING!\nSTOP 
 SUPPORTING ISRAELI TERRORISM!\nHILLARY, WHY DO YOU SLEEP WITH 
 GEORGE?\nHILLARY, aren't you a REPUBLICAN?\nETC.\n\nPlease tune in to 
 Christine Craft's radio show Thursday from 2 to 6pm at 
 http://www.1240talkcity.com/.  If we have additional info, we'll try to 
 call in.\n\nContact:\nStephen Pearcy\n(916) 444-8314\n 
 https://www.indybay.org/newsitems/2007/05/30/18422988.php
SUMMARY:Protest Hillary in Sacramento
LOCATION:House of Eleni and Markos Kounalakis\n 2500 E TIFFANY LN, SACRAMENTO, CA 
 95827 
URL:https://www.indybay.org/newsitems/2007/05/30/18422988.php
DTSTART:20070601T000000Z
DTEND:20070601T020000Z
END:VEVENT
END:VCALENDAR
