BEGIN:VCALENDAR
VERSION:2.0
X-WR-CALNAME:www.indybay.org
PRODID:-//indybay/ical// v1.0//EN
BEGIN:VEVENT
UID:Indybay-18422364
SEQUENCE:18435810
CREATED:20070529T201900Z
DESCRIPTION:\nJune 2, 2007 \n7:30 pm to 9:30 pm \nConcert to benefit  work in 
 Darfur.\n\n\nDoors open at 6:30pm. $20 suggested donation at the 
 door.\nFeaturing:\nWest African Highlife Band\nHeather 
 Lauren\nVocolot\nLowell Highschool Chamber Choir\nCantor Roslyn 
 Barak\nPhotography Exhibit:\nAlissa Everett, Bay Area Photojournalist, 
 Images of the People of Darfur\n\nIntroductions by:\nRabbi Lee Bycel, West 
 Coast Director, American Jewish World Service\nEltayeb Ibrahim, Darfuri 
 resident of the Bay Area\n\n 
 https://www.indybay.org/newsitems/2007/05/29/18422364.php
SUMMARY:Hearts & Music for Darfur
LOCATION:Two Lake Street\nSan Francisco
URL:https://www.indybay.org/newsitems/2007/05/29/18422364.php
DTSTART:20070603T023000Z
DTEND:20070603T043000Z
END:VEVENT
END:VCALENDAR
