BEGIN:VCALENDAR
VERSION:2.0
X-WR-CALNAME:www.indybay.org
PRODID:-//indybay/ical// v1.0//EN
BEGIN:VEVENT
UID:Indybay-18420405
SEQUENCE:18433715
CREATED:20070523T232100Z
DESCRIPTION:Lend your support to the March for Peace, a group of activists walking 
 across the country to urge the U.S. government to end the occupation of 
 Iraq, sign the Kyoto Protocol, and raise awareness about global issues. 
 Supporters are encouraged to walk with the group as it passes through 
 Sacramento.   \n https://www.indybay.org/newsitems/2007/05/23/18420405.php
SUMMARY:"March for Peace" in Sacramento
LOCATION:Entrance to CSUS\nSacramento
URL:https://www.indybay.org/newsitems/2007/05/23/18420405.php
DTSTART:20070527T170000Z
DTEND:20070527T170000Z
END:VEVENT
END:VCALENDAR
