BEGIN:VCALENDAR
VERSION:2.0
X-WR-CALNAME:www.indybay.org
PRODID:-//indybay/ical// v1.0//EN
BEGIN:VEVENT
UID:Indybay-18419642
SEQUENCE:18432937
CREATED:20070522T185300Z
DESCRIPTION:Forum & Discussion\nFriday, May 25, 7pm\n\nImmigration Bill 
 Update:\nMassive demonstrations, rallies, school and work walk-outs:  the 
 immigrant rights movement is here to stay.  The movement has mobilized 
 millions to demand equality and legalization. Unfortunately, when mass 
 movements arise—like last year’s mass upsurge for immigrant 
 rights—they often are met with repression in order to maintain the status 
 quo. Now, the ruling elite of the U.S are reacting to the powerful 
 immigrant rights movement with a new bill.  Come hear an update and 
 analysis of the new immigration bill in Congress and what it will mean for 
 the movement.\n\nThe Soviet Defeat of Fascism:\nWWII:  The rise of Nazi 
 Germany and Hitler’s crimes against humanity.  The Nazi army was on the 
 march to expand empire and their horrific campaign of genocide now known as 
 The Holocaust.  In 1947, however, this powerful army was finally defeated.  
 What is behind the heroic fight that finally defeated the Nazi’s?  Come 
 hear a report on the great battle that put an end to the most infamous 
 murderers and criminals in history. \n\nSponsored by Party for Socialism 
 and Liberation\n2489 Mission St. Rm. 28, San Francisco \n$3 - $5 donation 
 requested, no one turned away for lack of funds.\n\n(Refreshments served. 
 Cross street 21st. Near 24th St. BART. MUNI #14, 49, 26. Parking garage 
 located one block west on 21st. St. btwn. Mission & Valencia, parking cost 
 $2/hr.) \nFor more info, or to reserve free childcare (please call at least 
 one day in advance if you would like childcare) contact PSL at 
 415-821-6171.\n https://www.indybay.org/newsitems/2007/05/22/18419642.php
SUMMARY:Forum & Discussion: Immigration Bill Update / The Soviet Defeat of Fascism
LOCATION:2489 Mission St. Rm. 28, San Francisco \n(near 21st st.)
URL:https://www.indybay.org/newsitems/2007/05/22/18419642.php
DTSTART:20070526T020000Z
DTEND:20070526T040000Z
END:VEVENT
END:VCALENDAR
