BEGIN:VCALENDAR
VERSION:2.0
X-WR-CALNAME:www.indybay.org
PRODID:-//indybay/ical// v1.0//EN
BEGIN:VEVENT
UID:Indybay-18419432
SEQUENCE:18432704
CREATED:20070521T213600Z
DESCRIPTION:Please mark you calendar...\n\nSAN FRANCISCO SCHOOL OF DIGITIAL FILMMAKING 
 \n\nPresents…\n\nNEW STUDENT FILMS SCREENING and Open 
 House...\n\nSaturday, June 16 at 10:00 AM\n\nVisit our innovative school 
 and tour our state- of-the-art facility.  Check out our G-5 editing lab and 
 professional sound stages. Talk with the faculty about our unique hands-on, 
 digital filmmaking curriculum.  Watch a lighting demo with Founder, Stephen 
 Kopels and Demo the latest Sony HDV cameras. Enjoy good food and meet other 
 aspiring filmmakers!\n(RSVP: (415) 522-1200 or at 
 www.sfdigifilm.com)\n\nLearn about…\n\nSUMMER 2007 DIGITAL FILMMAKING 
 WORKSHOPS \n\n- Make Your Own Movie\n- Sony Hi-Def Cameras\n- 
 State-of-the-Art Sound Stages\n \nFALL 2007 DIGITAL FILMMAKING 
 PROGRAMS\n\n- Intensive Hands-On Instruction\n- Launch Your Career\n- Crew 
 on a Feature Film\n\nInfo: (415) 522-1200\nWebsite: 
 www.sfdigifilm.com\n\nSan Francisco School of Digital Filmmaking, the most 
 innovative film school in the Bay Area bridges the gap between traditional 
 education & professional moviemaking. Use state-of-the-art, hi-def 
 equipment and professional sound stages to make movies, work on HD feature 
 films, and launch your career.\n\n 
 https://www.indybay.org/newsitems/2007/05/21/18419432.php
SUMMARY:Film Screening & Open House at SF School of Digital Filmmaking
LOCATION:San Francisco School of Digital Filmmaking\n2331 Third Street\nSan 
 Francisco, CA 94107 
URL:https://www.indybay.org/newsitems/2007/05/21/18419432.php
DTSTART:20070621T170000Z
DTEND:20070621T193000Z
END:VEVENT
END:VCALENDAR
