BEGIN:VCALENDAR
VERSION:2.0
X-WR-CALNAME:www.indybay.org
PRODID:-//indybay/ical// v1.0//EN
BEGIN:VEVENT
UID:Indybay-18417143
SEQUENCE:18436361
CREATED:20070516T201500Z
DESCRIPTION:Free radical film: Underground\nA 1976 documentary featuring archive 
 footage of the Weather Underground. This film does a great job of 
 explaining the political and historical context that lead to the Weather 
 Underground's politics and the decision to go underground and commit a 
 serious of direct actions. \n\nThe Radical Movie Project screens a free 
 radical film every Wednesday except the first Wednesday of each month.  We 
 encourage people to participate in selection, viewing, and discussion of 
 the films. \n https://www.indybay.org/newsitems/2007/05/16/18417143.php
SUMMARY:Berkeley: Radical Movie Night at the Long Haul Infoshop
LOCATION:Long Haul Infoshop
URL:https://www.indybay.org/newsitems/2007/05/16/18417143.php
DTSTART:20070531T030000Z
DTEND:20070531T050000Z
END:VEVENT
END:VCALENDAR
