BEGIN:VCALENDAR
VERSION:2.0
X-WR-CALNAME:www.indybay.org
PRODID:-//indybay/ical// v1.0//EN
BEGIN:VEVENT
UID:Indybay-18416252
SEQUENCE:18432235
CREATED:20070515T001500Z
DESCRIPTION:An invitation to anyone concerned about animal abuse, the environment, and 
 public health: Please join nonprofit organization Bay Area Vegetarians 
 (http://www.bayareaveg.org) as we protest KFC over the Colonel's secret 
 ingredient - animal cruelty - and help stop some of the worst animal abuses 
 in factory farms. For more information about this campaign visit 
 \nhttp://www.kfccruelty.com \n\nThis month's demo will be on Sunday, 
 3/18/07, from 12:00-1:30 at 200 Duboce St. (@ Guerrero). New or experienced 
 activists are welcome. Being vegetarian is not required. Signs and fliers 
 are provided. This is a peaceful protest. \n\nPlease RSVP at 
 http://www.bayareaveg.org/rsvp.htm?id=1599. \n\nThis is a monthly event, 
 usually the 3rd Sunday but check events calendar at 
 http://www.bayareaveg.org to confirm.\n 
 https://www.indybay.org/newsitems/2007/05/14/18416252.php
SUMMARY:SF: KFC cruelty protest
LOCATION:KFC/Taco Bell, 200 Duboce St. (@ Guerrero), San Francisco
URL:https://www.indybay.org/newsitems/2007/05/14/18416252.php
DTSTART:20070520T190000Z
DTEND:20070520T203000Z
END:VEVENT
END:VCALENDAR
