BEGIN:VCALENDAR
VERSION:2.0
X-WR-CALNAME:www.indybay.org
PRODID:-//indybay/ical// v1.0//EN
BEGIN:VEVENT
UID:Indybay-18416233
SEQUENCE:18429323
CREATED:20070514T231600Z
DESCRIPTION:ANSWER Educational Forum\nEyewitness Cuba & Venezuela\n\nVideo and 
 presentations:\n•  Report from organizers who participated in \n   May 
 Day actions in Cuba and the International \n   Youth Conference on the 
 Cuban Five in Havana\n•  Venezuela: report back from the celebrations on 
 \n   the 5th anniversary of the defeated coup against  \n   President Hugo 
 Chavez and new gains of the \n   Bolivarian Revolution\n\nDiscussion period 
 will follow the presentations.\n\n$5-10 donation (no one turned away for 
 lack of funds)\nWheelchair accessible. Call to reserve free 
 childcare.\n\nA.N.S.W.E.R. Coalition (Act Now to Stop War & End 
 Racism)\n415-821-6545  answer@answersf.org\n\n 
 https://www.indybay.org/newsitems/2007/05/14/18416233.php
SUMMARY:Eyewitness Cuba & Venezuela
LOCATION:Centro del Pueblo, 474 Valencia St., SF\n(btwn 15th and 16th Sts./near 16th 
 St. BART)
URL:https://www.indybay.org/newsitems/2007/05/14/18416233.php
DTSTART:20070525T020000Z
DTEND:20070525T033000Z
END:VEVENT
END:VCALENDAR
