BEGIN:VCALENDAR
VERSION:2.0
X-WR-CALNAME:www.indybay.org
PRODID:-//indybay/ical// v1.0//EN
BEGIN:VEVENT
UID:Indybay-18410028
SEQUENCE:18422855
CREATED:20070505T052500Z
DESCRIPTION:Dear Friends of Mumia,\n\nPlease come Saturday and organize!\n\n* 
 Organizing meeting SF\nTHIS Saturday, 5/5, 10:30 am\n298 Valencia St. (at 
 14th St., near 16th St. Bart Station)\nSan Francisco, 
 CA\n415-255-1085\n\nAgenda will include:\n\n- Organizing for May 17\nMay 17 
 oral arguments in Philadelphia and demonstrations in Philadelphia and San 
 Francisco on that date. Download SF flyer: http://freemumia.org\n\n- Post 
 May 17 activities\n\n- Fundraising for the publication of The Nation ad. 
 Download pdf file of the ad: http://freemumia.org\n\n- Legal 
 update\n\n\nSee you there!\n\n!FREE MUMIA!\n\nIn solidarity,\n\nLaura 
 Herrera and Jeff Mackler, Co-coordinators\nThe Mobilization to Free Mumia 
 Abu-Jamal\n415-255-1085\n\n 
 https://www.indybay.org/newsitems/2007/05/04/18410028.php
SUMMARY:Meeting of Mobilization to Free Mumia Abu-Jamal
LOCATION:298 Valencia St. (at 14th St., near 16th St. Bart Station)\nSan Francisco, 
 CA
URL:https://www.indybay.org/newsitems/2007/05/04/18410028.php
DTSTART:20070505T173000Z
DTEND:20070505T193000Z
END:VEVENT
END:VCALENDAR
