BEGIN:VCALENDAR
VERSION:2.0
X-WR-CALNAME:www.indybay.org
PRODID:-//indybay/ical// v1.0//EN
BEGIN:VEVENT
UID:Indybay-18409630
SEQUENCE:18422453
CREATED:20070504T215600Z
DESCRIPTION:JEFFREY J. KRIPAL \ntalk & booksigning for "Esalen: America and the 
 Religion of No Religion"\nTuesday, May 22nd at 7 pm\nat The Booksmith (1644 
 Haight Street in San Francisco)\n \nEsalen has always been on the edge. 
 Famous for its stunning locale, the institute has long been in the 
 forefront of alternative and experiential education. In "Esalen: America 
 and the Religion of No Religion," author Jeffrey Kripal recounts it’s 
 spectacular history and the development of the institute’s revolutionary 
 ideas, transformative spiritual practices, and innovative art 
 forms.\n\nJeffrey J. Kripal is the J. Newton Rayzor Professor in and chair 
 of the Department of Religious Studies at Rice University. He is the author 
 of "Kali’s Child," "Roads of Excess, Palaces of Wisdom," and "The 
 Serpent’s Gift: Gnostic Reflections on the Study of Religion," each 
 published by the University of Chicago Press. \n\nThis Booksmith sponsored 
 event will take place at The Booksmith (1644 Haight Street in San 
 Francisco). For further information, call 415-863-8688 or visit 
 www.booksmith.com     If you can't attend this event and would like to 
 order a signed copy of the author's new book, please email or phone our 
 store. \n https://www.indybay.org/newsitems/2007/05/04/18409630.php
SUMMARY:Jeffrey J. Kripal speaks on Esalen
LOCATION:The Booksmith\n1644 Haight Street\nSan Francisco, CA 94117
URL:https://www.indybay.org/newsitems/2007/05/04/18409630.php
DTSTART:20070523T020000Z
DTEND:20070523T033000Z
END:VEVENT
END:VCALENDAR
